BEGIN:VCALENDAR
VERSION:2.0
PRODID:http://www.weinco.at
METHOD:PUBLISH
BEGIN:VEVENT
UID:3be09591c17e19b5eba6eca5d0c69382@weinco.at
LOCATION:Platzl 2, 5020 Salzburg
SUMMARY:Themenverkostung Rosé
DESCRIPTION:
CLASS:PUBLIC
DTSTART:20230318T190000
DTSTAMP:20260424T063300
END:VEVENT
END:VCALENDAR
