BEGIN:VCALENDAR
VERSION:2.0
PRODID:http://www.weinco.at
METHOD:PUBLISH
BEGIN:VEVENT
UID:4fb68a3bcb11bde10e8821b55674278a@weinco.at
LOCATION:Jasomirgottstraße 3-5, 1010 Wien
SUMMARY:Themenverkostung Rosé
DESCRIPTION:
CLASS:PUBLIC
DTSTART:20240223T190000
DTSTAMP:20260420T051300
END:VEVENT
END:VCALENDAR
