BEGIN:VCALENDAR
VERSION:2.0
PRODID:http://www.weinco.at
METHOD:PUBLISH
BEGIN:VEVENT
UID:15afc188f8076174422928d12c1831ad@weinco.at
LOCATION:Universitätsring 12, 1010 Wien
SUMMARY:Themenverkostung Rosé Schaumwein
DESCRIPTION:
CLASS:PUBLIC
DTSTART:20240114T130000
DTSTAMP:20260420T034600
END:VEVENT
END:VCALENDAR
