BEGIN:VCALENDAR
VERSION:2.0
PRODID:http://www.weinco.at
METHOD:PUBLISH
BEGIN:VEVENT
UID:c23d948bcd53050e2ee2ef6b524d4fbf@weinco.at
LOCATION:Universitätsring 12, 1010 Wien
SUMMARY:Themenverkostung Rosé Schaumwein
DESCRIPTION:
CLASS:PUBLIC
DTSTART:20240211T130000
DTSTAMP:20260420T034600
END:VEVENT
END:VCALENDAR
