BEGIN:VCALENDAR
VERSION:2.0
PRODID:http://www.weinco.at
METHOD:PUBLISH
BEGIN:VEVENT
UID:8ff7d9eca2df771f960b2ab4d0c67e6e@weinco.at
LOCATION:Rheinstraße 67, 6900 Bregenz
SUMMARY:Themenverkostung Rotweine Frankreichs
DESCRIPTION:<p>Bei der Themenverkostung&nbsp;<strong>Rotweine Frankreichs</strong>&nbsp;stellt Ihnen unsere WEIN &amp; CO&nbsp;<strong>Weinakademikerin Brigitte Karu-Stabauer</strong>&nbsp;die wichtigsten roten Weinstile Frankreichs vor. Lassen Sie sich von ihrem geschulten Gaumen durch die Weinregionen Frankreichs geleiten!</p><p style="background: #F5F1F1; text-align: center; padding: 20px;"><strong>Im Preis inbegriffen sind:<br><br></strong> <em>Weinverkostung mit bis zu 8 themenspezifischen Weinen</em><br><em>Frisch gebackenes Baguette und Vöslauer Mineralwasser</em> <br><em>-10 % Eventgutschein* auf das gesamte reguläre Sortiment, sogar zusätzlich zum Mengenrabatt! <br><span style="font-size: small;">*Einlösbar am Abend des Events (Ausgenommen Ikonen und Aktionspreise)</span></em></p>
CLASS:PUBLIC
DTSTART:20240315T183000
DTSTAMP:20260420T034700
END:VEVENT
END:VCALENDAR
