BEGIN:VCALENDAR
VERSION:2.0
PRODID:http://www.weinco.at
METHOD:PUBLISH
BEGIN:VEVENT
UID:956f9d4b926a8af07bf32de21edd8eee@weinco.at
LOCATION:Universitätsring 12, 1010 Wien
SUMMARY:Themenverkostung Sekt aus Österreich
DESCRIPTION:
CLASS:PUBLIC
DTSTART:20240128T130000
DTSTAMP:20260420T034700
END:VEVENT
END:VCALENDAR
