BEGIN:VCALENDAR
VERSION:2.0
PRODID:http://www.weinco.at
METHOD:PUBLISH
BEGIN:VEVENT
UID:a07e2052b13d602da6022e533f3bed3d@weinco.at
LOCATION:Universitätsring 12, 1010 Wien
SUMMARY:Themenverkostung Sekt aus Österreich
DESCRIPTION:
CLASS:PUBLIC
DTSTART:20240324T130000
DTSTAMP:20260420T034700
END:VEVENT
END:VCALENDAR
