BEGIN:VCALENDAR
VERSION:2.0
PRODID:http://www.weinco.at
METHOD:PUBLISH
BEGIN:VEVENT
UID:9078b6ab964bbd26efdfdabfab95428d@weinco.at
LOCATION:Platzl 2, 5020 Salzburg
SUMMARY:Themenverkostung Steiermark
DESCRIPTION:
CLASS:PUBLIC
DTSTART:20240330T190000
DTSTAMP:20260420T051000
END:VEVENT
END:VCALENDAR
