BEGIN:VCALENDAR
VERSION:2.0
PRODID:http://www.weinco.at
METHOD:PUBLISH
BEGIN:VEVENT
UID:97f58cc60361f36cb40942c5c9a9e029@weinco.at
LOCATION:Mariahilfer Straße 36, 1070 Wien
SUMMARY:Vatertagsbrunch bei WEIN &amp; CO
DESCRIPTION:<p><strong>DEM PAPA EINE FREUDE MACHEN!</strong><br>BRUNCH INKL. BIER/SEKT/WEIN FREE-FLOW<br>Einmal im Jahr wird er gefeiert, der Herr Papa! Am Sonntag den 12. Juni ist es wieder soweit und der Vatertag steht vor der Tür. Und weil der schönste Dank gemeinsame Momente mit den Liebsten sind, ladet WEIN &amp; CO an diesem besonderen Festtag zum Vatertagsbrunch in die Filiale Mariahilfer Straße. Unsere Köche verwöhnen Sie mit ausgesuchten Köstlichkeiten vom Grill, schmackhaften Fleischspezialtäten sowie kulinarischen Gaumenfreuden in Hülle und Fülle. Anstoßen und Zuprosten kann man mit Bier, Sekt oder Wein und natürlich darf auch ein süßer Abschluss nicht fehlen – gibt es etwas Schöneres?</p>
CLASS:PUBLIC
DTSTART:20160612T113000
DTSTAMP:20260422T123100
END:VEVENT
END:VCALENDAR
