BEGIN:VCALENDAR
VERSION:2.0
PRODID:http://www.weinco.at
METHOD:PUBLISH
BEGIN:VEVENT
UID:1617dd18bca95a9fab453d1700fd341b@weinco.at
LOCATION:Völkermarkter Straße 144, 9020 Klagenfurt
SUMMARY:Wein ABC für Einsteiger:innen
DESCRIPTION:
CLASS:PUBLIC
DTSTART:20240223T184500
DTSTAMP:20260420T034100
END:VEVENT
END:VCALENDAR
