BEGIN:VCALENDAR
VERSION:2.0
PRODID:http://www.weinco.at
METHOD:PUBLISH
BEGIN:VEVENT
UID:76ab12f5994611f58427902b1b1d50aa@weinco.at
LOCATION:Joanneumring 13, 8010 Graz
SUMMARY:Wein ABC für Einsteiger:innen
DESCRIPTION:
CLASS:PUBLIC
DTSTART:20240118T190000
DTSTAMP:20260420T034100
END:VEVENT
END:VCALENDAR
