BEGIN:VCALENDAR
VERSION:2.0
PRODID:http://www.weinco.at
METHOD:PUBLISH
BEGIN:VEVENT
UID:b698439e156812f1a33acc20a44772b2@weinco.at
LOCATION:Joanneumring 13, 8010 Graz
SUMMARY:Wein ABC für Einsteiger:innen
DESCRIPTION:
CLASS:PUBLIC
DTSTART:20240411T190000
DTSTAMP:20260420T034100
END:VEVENT
END:VCALENDAR
