BEGIN:VCALENDAR
VERSION:2.0
PRODID:http://www.weinco.at
METHOD:PUBLISH
BEGIN:VEVENT
UID:b7644abae9d51f072401f013b5d42d53@weinco.at
LOCATION:Hietzinger Hauptstraße 22, 1130 Wien
SUMMARY:Wein ABC für Einsteiger:innen
DESCRIPTION:
CLASS:PUBLIC
DTSTART:20230412T190000
DTSTAMP:20260422T105900
END:VEVENT
END:VCALENDAR
