BEGIN:VCALENDAR
VERSION:2.0
PRODID:http://www.weinco.at
METHOD:PUBLISH
BEGIN:VEVENT
UID:2a63aaefec8b7491fde3ac929c1ffd14@weinco.at
LOCATION:Hietzinger Hauptstraße 22, 1130 Wien
SUMMARY:Wein ABC für Einsteiger:innen
DESCRIPTION:
CLASS:PUBLIC
DTSTART:20240307T190000
DTSTAMP:20260420T051300
END:VEVENT
END:VCALENDAR
