BEGIN:VCALENDAR
VERSION:2.0
PRODID:http://www.weinco.at
METHOD:PUBLISH
BEGIN:VEVENT
UID:3d20badc2e5a7bf74ce0fc12cabfbd92@weinco.at
LOCATION:Mariahilfer Straße 36, 1070 Wien
SUMMARY:Wein ABC für Einsteiger:innen
DESCRIPTION:
CLASS:PUBLIC
DTSTART:20240221T201500
DTSTAMP:20260420T051300
END:VEVENT
END:VCALENDAR
