BEGIN:VCALENDAR
VERSION:2.0
PRODID:http://www.weinco.at
METHOD:PUBLISH
BEGIN:VEVENT
UID:5434dc43a6abf2555ab0489a105fcca4@weinco.at
LOCATION:Ekz Taborland, Kaserngasse 1, 4400 Steyr
SUMMARY:Wein ABC für Einsteiger:innen
DESCRIPTION:
CLASS:PUBLIC
DTSTART:20240329T190000
DTSTAMP:20260422T140600
END:VEVENT
END:VCALENDAR
