BEGIN:VCALENDAR
VERSION:2.0
PRODID:http://www.weinco.at
METHOD:PUBLISH
BEGIN:VEVENT
UID:c5c57642a4f73eae7413ce5ad2782158@weinco.at
LOCATION:Völkermarkter Straße 144, 9020 Klagenfurt
SUMMARY:Wein ABC für Einsteiger:innen
DESCRIPTION:
CLASS:PUBLIC
DTSTART:20261120T184500
DTSTAMP:20260422T121800
END:VEVENT
END:VCALENDAR
