BEGIN:VCALENDAR
VERSION:2.0
PRODID:http://www.weinco.at
METHOD:PUBLISH
BEGIN:VEVENT
UID:02e21fb779dbb8b83fd0b59d5c1aa47a@weinco.at
LOCATION:Landstraßer Hauptstraße 23, 1030 Wien
SUMMARY:Wein ABC für Einsteiger:innen
DESCRIPTION:<p>Freuen Sie sich auf eine Moderation von Tatiana Schwegelbauer!&nbsp;</p>
CLASS:PUBLIC
DTSTART:20260522T190000
DTSTAMP:20260422T121400
END:VEVENT
END:VCALENDAR
