BEGIN:VCALENDAR
VERSION:2.0
PRODID:http://www.weinco.at
METHOD:PUBLISH
BEGIN:VEVENT
UID:2a845b3e91df58cd29f565345c31d49a@weinco.at
LOCATION:Stadionstraße 10-12 Merkurcity, 2700 Wiener Neustadt
SUMMARY:Wein ABC für Einsteiger:innen
DESCRIPTION:
CLASS:PUBLIC
DTSTART:20260528T183000
DTSTAMP:20260420T051400
END:VEVENT
END:VCALENDAR
