BEGIN:VCALENDAR
VERSION:2.0
PRODID:http://www.weinco.at
METHOD:PUBLISH
BEGIN:VEVENT
UID:d6aa56c3cd6341dd6c3ab5757a5e103b@weinco.at
LOCATION:Mariahilfer Straße 36, 1070 Wien
SUMMARY:Wein ABC für Einsteiger:innen
DESCRIPTION:<p>Freuen Sie sich auf eine Moderation von Christian Huber!</p>
CLASS:PUBLIC
DTSTART:20260521T201500
DTSTAMP:20260422T121700
END:VEVENT
END:VCALENDAR
