BEGIN:VCALENDAR
VERSION:2.0
PRODID:http://www.weinco.at
METHOD:PUBLISH
BEGIN:VEVENT
UID:0190fadb841d7ed83e29cca2a745bc2f@weinco.at
LOCATION:Bruno-Kreisky-Straße 39, 9500 Villach
SUMMARY:Wein ABC für Fortgeschrittene
DESCRIPTION:
CLASS:PUBLIC
DTSTART:20240308T184500
DTSTAMP:20260420T034600
END:VEVENT
END:VCALENDAR
