BEGIN:VCALENDAR
VERSION:2.0
PRODID:http://www.weinco.at
METHOD:PUBLISH
BEGIN:VEVENT
UID:022e5a923458991fab6f695c0c4def33@weinco.at
LOCATION:Rheinstraße 67, 6900 Bregenz
SUMMARY:Wein ABC für Fortgeschrittene
DESCRIPTION:
CLASS:PUBLIC
DTSTART:20240216T183000
DTSTAMP:20260420T034600
END:VEVENT
END:VCALENDAR
