BEGIN:VCALENDAR
VERSION:2.0
PRODID:http://www.weinco.at
METHOD:PUBLISH
BEGIN:VEVENT
UID:6dcc8d363118d28496eee7b61822a13c@weinco.at
LOCATION:Platzl 2, 5020 Salzburg
SUMMARY:Wein ABC für Fortgeschrittene
DESCRIPTION:
CLASS:PUBLIC
DTSTART:20240224T190000
DTSTAMP:20260420T051700
END:VEVENT
END:VCALENDAR
