BEGIN:VCALENDAR
VERSION:2.0
PRODID:http://www.weinco.at
METHOD:PUBLISH
BEGIN:VEVENT
UID:5a6ce3e53bbfb06dd5822fe254494010@weinco.at
LOCATION:Joanneumring 13, 8010 Graz
SUMMARY:Wein ABC für Fortgeschrittene
DESCRIPTION:
CLASS:PUBLIC
DTSTART:20240222T190000
DTSTAMP:20260421T102400
END:VEVENT
END:VCALENDAR
