BEGIN:VCALENDAR
VERSION:2.0
PRODID:http://www.weinco.at
METHOD:PUBLISH
BEGIN:VEVENT
UID:9b34958c2bde3f10f457af458ed7cda4@weinco.at
LOCATION:Mariahilfer Straße 36, 1070 Wien
SUMMARY:Wein ABC Rund um die Welt
DESCRIPTION:
CLASS:PUBLIC
DTSTART:20160217T193000
DTSTAMP:20260420T102900
END:VEVENT
END:VCALENDAR
