BEGIN:VCALENDAR
VERSION:2.0
PRODID:http://www.weinco.at
METHOD:PUBLISH
BEGIN:VEVENT
UID:a301fcd6ae4df201b8372aed34b0cbef@weinco.at
LOCATION:Mariahilfer Straße 36, 1070 Wien
SUMMARY:Wein &amp; Schokolade
DESCRIPTION:
CLASS:PUBLIC
DTSTART:20160127T193000
DTSTAMP:20260421T102600
END:VEVENT
END:VCALENDAR
