BEGIN:VCALENDAR
VERSION:2.0
PRODID:http://www.weinco.at
METHOD:PUBLISH
BEGIN:VEVENT
UID:6147246665001872dd5a886d418f990c@weinco.at
LOCATION:Rudolf-Kratochwill-Straße 3, 8054 Seiersberg
SUMMARY:Wein &amp; Grill ABC
DESCRIPTION:
CLASS:PUBLIC
DTSTART:20220618T160000
DTSTAMP:20260422T211800
END:VEVENT
END:VCALENDAR
