BEGIN:VCALENDAR
VERSION:2.0
PRODID:http://www.weinco.at
METHOD:PUBLISH
BEGIN:VEVENT
UID:fff079091fab64095f9cad3298f1057a@weinco.at
LOCATION:Rudolf-Kratochwill-Straße 3, 8054 Seiersberg
SUMMARY:Wein &amp; Grill ABC
DESCRIPTION:
CLASS:PUBLIC
DTSTART:20230325T160000
DTSTAMP:20260421T170600
END:VEVENT
END:VCALENDAR
