BEGIN:VCALENDAR
VERSION:2.0
PRODID:http://www.weinco.at
METHOD:PUBLISH
BEGIN:VEVENT
UID:648d1c9a9c61b78d8b44a984bab0dd09@weinco.at
LOCATION:Jasomirgottstraße 3-5, 1010 Wien
SUMMARY:Wein &amp; Käse ABC
DESCRIPTION:
CLASS:PUBLIC
DTSTART:20220519T190000
DTSTAMP:20260422T213100
END:VEVENT
END:VCALENDAR
