BEGIN:VCALENDAR
VERSION:2.0
PRODID:http://www.weinco.at
METHOD:PUBLISH
BEGIN:VEVENT
UID:d24e41365a27a6ce4c4b46a5b539f5cb@weinco.at
LOCATION:Jasomirgottstraße 3-5, 1010 Wien
SUMMARY:Wein &amp; Käse ABC Premium
DESCRIPTION:
CLASS:PUBLIC
DTSTART:20231018T190000
DTSTAMP:20260422T181800
END:VEVENT
END:VCALENDAR
