BEGIN:VCALENDAR
VERSION:2.0
PRODID:http://www.weinco.at
METHOD:PUBLISH
BEGIN:VEVENT
UID:8010691083622c563813e1f1d85119d6@weinco.at
LOCATION:Kornstraße 14, 4060 Leonding
SUMMARY:Domäne Wachau
DESCRIPTION:
CLASS:PUBLIC
DTSTART:20200221T150000
DTSTAMP:20260421T150500
END:VEVENT
END:VCALENDAR
