BEGIN:VCALENDAR
VERSION:2.0
PRODID:http://www.weinco.at
METHOD:PUBLISH
BEGIN:VEVENT
UID:76819f255a4d6d1d4d956492094489ea@weinco.at
LOCATION:Landstraßer Hauptstraße 23, 1030 Wien
SUMMARY:Kellerei Terlan
DESCRIPTION:<p>Kommen Sie von&nbsp;<strong>12:00–15:00 Uhr</strong>&nbsp;in unsere&nbsp;<strong>WEIN &amp; CO Filiale Wien Landstraßer Hauptstraße</strong>&nbsp;und verkosten Sie das Line-up des&nbsp;<strong>Weinguts Terlan</strong>.</p>
CLASS:PUBLIC
DTSTART:20260619T120000
DTSTAMP:20260426T015000
END:VEVENT
END:VCALENDAR
