BEGIN:VCALENDAR
VERSION:2.0
PRODID:http://www.weinco.at
METHOD:PUBLISH
BEGIN:VEVENT
UID:8cb060b4a9c350a9d34b588479d20c9f@weinco.at
LOCATION:Muthgasse 56-88, 1190 Wien
SUMMARY:Philipp Bründlmayer
DESCRIPTION:
CLASS:PUBLIC
DTSTART:20221230T140000
DTSTAMP:20260422T105800
END:VEVENT
END:VCALENDAR
