BEGIN:VCALENDAR
VERSION:2.0
PRODID:http://www.weinco.at
METHOD:PUBLISH
BEGIN:VEVENT
UID:c8235aaa18ac5ba6964391cc3f5cd9dd@weinco.at
LOCATION:Seyringer Straße 6-8, 1210 Wien
SUMMARY:Philipp Bründlmayer
DESCRIPTION:<p>Kommen Sie von <strong>13:00 bis 17:00 Uhr</strong> in unsere <strong>WEIN &amp; CO Filiale Wien Nord</strong> und verkosten Sie das Line-Up des Weinguts <strong>Philipp Bründlmayer</strong>.</p>
CLASS:PUBLIC
DTSTART:20231110T130000
DTSTAMP:20260422T121500
END:VEVENT
END:VCALENDAR
