BEGIN:VCALENDAR
VERSION:2.0
PRODID:http://www.weinco.at
METHOD:PUBLISH
BEGIN:VEVENT
UID:00f8e7cd652928cc21bad69b97a28a3f@weinco.at
LOCATION:Pummererstraße 4, 4020 Linz
SUMMARY:Weingüter Nigl und Leindl
DESCRIPTION:<p>Kommen Sie von<strong>&nbsp;</strong><strong>11:00 bis 16:00 Uhr</strong>&nbsp;in unsere&nbsp;<strong>WEIN &amp; CO Filiale Linz</strong><strong>&nbsp;</strong>und verkosten Sie das Line-Up&nbsp;der&nbsp;<strong>Weingüter Nigl und Leindl.</strong></p>
CLASS:PUBLIC
DTSTART:20231216T110000
DTSTAMP:20260424T050200
END:VEVENT
END:VCALENDAR
