BEGIN:VCALENDAR
VERSION:2.0
PRODID:http://www.weinco.at
METHOD:PUBLISH
BEGIN:VEVENT
UID:902560b1f108bc2a170725b884863354@weinco.at
LOCATION:Ekz Taborland, Kaserngasse 1, 4400 Steyr
SUMMARY:Weingut Alzinger
DESCRIPTION:<p>Kommen Sie von&nbsp;<strong>13:00 – 17:30 Uhr</strong>&nbsp;in unsere&nbsp;<strong>WEIN &amp; CO Filiale Steyr</strong>&nbsp;und verkosten Sie das Line-up des&nbsp;<strong>Weinguts Alzinger.&nbsp;</strong></p>
CLASS:PUBLIC
DTSTART:20261120T130000
DTSTAMP:20260419T203600
END:VEVENT
END:VCALENDAR
