BEGIN:VCALENDAR
VERSION:2.0
PRODID:http://www.weinco.at
METHOD:PUBLISH
BEGIN:VEVENT
UID:8ff28835276bec79658f56f14f699674@weinco.at
LOCATION:Jasomirgottstraße 3-5, 1010 Wien
SUMMARY:Weingut Domäne Wachau
DESCRIPTION:<p>Kommen Sie zwischen <strong>15:00 und 19:00&nbsp;Uhr</strong>&nbsp;in unsere&nbsp;<strong>WEIN &amp; CO Filiale Wien Stephansplatz </strong>und verkosten Sie das Line-up des <strong>Weinguts Domäne Wachau.</strong></p>
CLASS:PUBLIC
DTSTART:20260731T150000
DTSTAMP:20260424T024700
END:VEVENT
END:VCALENDAR
