BEGIN:VCALENDAR
VERSION:2.0
PRODID:http://www.weinco.at
METHOD:PUBLISH
BEGIN:VEVENT
UID:4e1c697c58ace2a05144ff1ed5e65528@weinco.at
LOCATION:Jasomirgottstraße 3-5, 1010 Wien
SUMMARY:Weingut Ebner-Ebenauer
DESCRIPTION:<p>Kommen Sie ab<strong> 14:00 Uhr</strong> in unsere <strong>WEIN &amp; CO Filiale Wien Stephansplatz </strong>und verkosten Sie das Line-Up des<strong> Weinguts Ebner-Ebenauer</strong>.</p>
CLASS:PUBLIC
DTSTART:20231216T140000
DTSTAMP:20260421T064800
END:VEVENT
END:VCALENDAR
