BEGIN:VCALENDAR
VERSION:2.0
PRODID:http://www.weinco.at
METHOD:PUBLISH
BEGIN:VEVENT
UID:9e925259d9d363b290c7e47209cd2ad7@weinco.at
LOCATION:Muthgasse 56-88, 1190 Wien
SUMMARY:Weingut Ebner-Ebenauer
DESCRIPTION:<p>Kommen Sie zwischen <strong>14:00 und 18:00 Uhr</strong>&nbsp;in unsere&nbsp;<strong>WEIN &amp; CO Filiale Wien Muthgasse </strong>und verkosten Sie das Line-up des&nbsp;<strong>Weinguts Ebner-Ebenauer.&nbsp;</strong></p>
CLASS:PUBLIC
DTSTART:20261002T140000
DTSTAMP:20260424T024900
END:VEVENT
END:VCALENDAR
