BEGIN:VCALENDAR
VERSION:2.0
PRODID:http://www.weinco.at
METHOD:PUBLISH
BEGIN:VEVENT
UID:c647f2a6f34278b30c28af729766bdd4@weinco.at
LOCATION:Mariahilfer Straße 36, 1070 Wien
SUMMARY:Weingut Ernst Triebaumer
DESCRIPTION:<div class="header-section">
<div class="kitchensink">
<p>Kommen Sie von&nbsp;<strong>15:00 –19:00 Uhr&nbsp;</strong>in unsere&nbsp;<strong>WEIN &amp; CO Filiale Wien Mariahilfer Straße&nbsp;</strong>und verkosten Sie das Line-up des <strong>Weinguts&nbsp;Ernst Triebaumer.</strong></p>
<p>&nbsp;</p>
</div>
</div>
CLASS:PUBLIC
DTSTART:20240209T150000
DTSTAMP:20260420T033900
END:VEVENT
END:VCALENDAR
