BEGIN:VCALENDAR
VERSION:2.0
PRODID:http://www.weinco.at
METHOD:PUBLISH
BEGIN:VEVENT
UID:fce971c489e43aab8b19e01fae000221@weinco.at
LOCATION:Getreidemarkt 1, 1060 Wien
SUMMARY:Weingut Fritsch
DESCRIPTION:<p>Kommen Sie von&nbsp;<strong>15:00–19:00 Uhr</strong>&nbsp;in unsere&nbsp;<strong>WEIN &amp; CO Filiale Wien Naschmarkt</strong>&nbsp;und verkosten Sie das Line-up des&nbsp;<strong>Weinguts Karl Fritsch</strong>.</p>
CLASS:PUBLIC
DTSTART:20260423T150000
DTSTAMP:20260421T002100
END:VEVENT
END:VCALENDAR
