BEGIN:VCALENDAR
VERSION:2.0
PRODID:http://www.weinco.at
METHOD:PUBLISH
BEGIN:VEVENT
UID:005c03bfd9d4df48aa46f6e6dfb92439@weinco.at
LOCATION:Landstraßer Hauptstraße 23, 1030 Wien
SUMMARY:Weingut Fritz
DESCRIPTION:<p>Kommen Sie <strong>zwischen 15:00 und 18:00 Uhr</strong>&nbsp;in unsere&nbsp;<strong>WEIN &amp; CO Filiale Wien Landstraße </strong>und verkosten Sie das Line-up des <strong>Weinguts Fritz.</strong></p>
CLASS:PUBLIC
DTSTART:20260612T150000
DTSTAMP:20260421T002600
END:VEVENT
END:VCALENDAR
