BEGIN:VCALENDAR
VERSION:2.0
PRODID:http://www.weinco.at
METHOD:PUBLISH
BEGIN:VEVENT
UID:3fc19681d9d74f31286a182d200b9e7f@weinco.at
LOCATION:Mariahilfer Straße 36, 1070 Wien
SUMMARY:Weingut Gesellmann
DESCRIPTION:<p>Kommen Sie von <strong>15:00 Uhr–19:00</strong> in unsere <strong>WEIN &amp; CO Filiale Wien Mariahilfer Straße </strong>und verkosten Sie das Line-up des Weinguts Gesellmann.</p>
CLASS:PUBLIC
DTSTART:20231207T150000
DTSTAMP:20260423T045200
END:VEVENT
END:VCALENDAR
