BEGIN:VCALENDAR
VERSION:2.0
PRODID:http://www.weinco.at
METHOD:PUBLISH
BEGIN:VEVENT
UID:51c66183db882de9d51dac0dabec5323@weinco.at
LOCATION:Stadionstraße 10-12 Merkurcity, 2700 Wiener Neustadt
SUMMARY:Weingut Gesellmann
DESCRIPTION:<p>Kommen Sie ab<strong> 15:00 Uhr</strong> in unsere <strong>WEIN &amp; CO Filiale Wiener Neustadt </strong>und verkosten Sie das Line-Up des<strong> Weinguts Gesellmann</strong>.</p>
CLASS:PUBLIC
DTSTART:20231215T150000
DTSTAMP:20260420T051000
END:VEVENT
END:VCALENDAR
