BEGIN:VCALENDAR
VERSION:2.0
PRODID:http://www.weinco.at
METHOD:PUBLISH
BEGIN:VEVENT
UID:9455dcfda0fa353956e83513b7952168@weinco.at
LOCATION:Stadionstraße 10-12 Merkurcity, 2700 Wiener Neustadt
SUMMARY:Weingut Günter + Regina Triebaumer
DESCRIPTION:<p>Kommen Sie zwischen <strong>14:00 und 18:00 Uhr</strong>&nbsp;in unsere&nbsp;<strong>WEIN &amp; CO Filiale Wiener Neustadt </strong>und verkosten Sie das Line-up des&nbsp;<strong>Weinguts Günter + Regina Triebaumer.&nbsp;</strong></p>
CLASS:PUBLIC
DTSTART:20260529T140000
DTSTAMP:20260424T024500
END:VEVENT
END:VCALENDAR
