BEGIN:VCALENDAR
VERSION:2.0
PRODID:http://www.weinco.at
METHOD:PUBLISH
BEGIN:VEVENT
UID:5686481c8ce0beb89dd17fed45e5eddf@weinco.at
LOCATION:Seyringer Straße 6-8, 1210 Wien
SUMMARY:Weingut Hagn
DESCRIPTION:<p><span>Kommen Sie von&nbsp;</span><strong>13:00 bis 18:00 Uhr</strong><span>&nbsp;in unsere&nbsp;</span><span><span><strong>WEIN &amp; CO Filiale Wien Nord</strong>&nbsp;</span></span><span>und verkosten Sie das Line-up des&nbsp;<strong>Weinguts Hagn.</strong></span></p>
CLASS:PUBLIC
DTSTART:20240209T130000
DTSTAMP:20260420T034100
END:VEVENT
END:VCALENDAR
