BEGIN:VCALENDAR
VERSION:2.0
PRODID:http://www.weinco.at
METHOD:PUBLISH
BEGIN:VEVENT
UID:4a91a2632259bfeb28c052069c558843@weinco.at
LOCATION:Hans Dujsik-Allee 7 / Top 26, 2334 Vösendorf
SUMMARY:Weingut K+K Kirnbauer
DESCRIPTION:<p>Kommen Sie von <strong>13:00–17:00 Uhr</strong> in die <strong>WEIN &amp; CO Filiale SCS</strong> und verkosten Sie das Line-up des mittelburgenländischen Weinguts<strong> K+K Kirnbauer</strong>.</p>
CLASS:PUBLIC
DTSTART:20221215T130000
DTSTAMP:20260422T123800
END:VEVENT
END:VCALENDAR
