BEGIN:VCALENDAR
VERSION:2.0
PRODID:http://www.weinco.at
METHOD:PUBLISH
BEGIN:VEVENT
UID:266dc8d468ccd5a7def18714b2647e92@weinco.at
LOCATION:Mariahilfer Straße 36, 1070 Wien
SUMMARY:Weingut Kerschbaum
DESCRIPTION:<p>Kommen Sie von <strong>15:00–19:00 Uhr</strong> in unsere <strong>WEIN &amp; CO Filiale Wien Mariahilferstraße </strong>und verkosten Sie das Line-up des <strong>Weinguts Kerschbaum</strong>.</p>
CLASS:PUBLIC
DTSTART:20240412T150000
DTSTAMP:20260422T092000
END:VEVENT
END:VCALENDAR
