BEGIN:VCALENDAR
VERSION:2.0
PRODID:http://www.weinco.at
METHOD:PUBLISH
BEGIN:VEVENT
UID:147b624905d86d07df54ea3202757251@weinco.at
LOCATION:Landstraßer Hauptstraße 23, 1030 Wien
SUMMARY:Weingut Kracher
DESCRIPTION:<p>Kommen Sie von&nbsp;<strong>15:00–18:00 Uhr</strong>&nbsp;in unsere&nbsp;<strong>WEIN &amp; CO Filiale Wien Landstraßer Hauptstraße</strong>&nbsp;und verkosten Sie das Line-up des&nbsp;<strong>Weinguts Kracher</strong>.</p>
CLASS:PUBLIC
DTSTART:20261204T150000
DTSTAMP:20260425T133200
END:VEVENT
END:VCALENDAR
