BEGIN:VCALENDAR
VERSION:2.0
PRODID:http://www.weinco.at
METHOD:PUBLISH
BEGIN:VEVENT
UID:7c39352813045206add05c79f8662e1c@weinco.at
LOCATION:Mariahilfer Straße 36, 1070 Wien
SUMMARY:Weingut Lackner Tinnacher
DESCRIPTION:<p>Kommen Sie von <strong>15:00 Uhr–19:00</strong> in unsere <strong>WEIN &amp; CO Filiale Wien Mariahilferstraße </strong>und verkosten Sie das Line-up des <strong>Weinguts Lackner Tinnacher</strong>.</p>
CLASS:PUBLIC
DTSTART:20231201T150000
DTSTAMP:20260421T133100
END:VEVENT
END:VCALENDAR
